BEGIN:VCALENDAR
PRODID://WordPress//Event-Post-V5.8.5//EN
VERSION:2.0
BEGIN:VTIMEZONE
TZID:Europe/Zagreb
BEGIN:DAYLIGHT
TZOFFSETFROM:+0100
TZOFFSETTO:+0200
DTSTART:19700329T020000
RRULE:FREQ=YEARLY;BYDAY=-1SU;BYMONTH=3
END:DAYLIGHT
BEGIN:STANDARD
TZOFFSETFROM:+0200
TZOFFSETTO:+0100
TZNAME:CET
DTSTART:19701025T030000
RRULE:FREQ=YEARLY;BYDAY=-1SU;BYMONTH=10
END:STANDARD
END:VTIMEZONE
BEGIN:VEVENT
SUMMARY:Konfucije: "Izreke", predstavljanje knjige
UID:https://nova-akropola.hr/varazdin/najave-varazdin/konfucije-izreke-predstavljanje-knjige/
LOCATION:Gradska knjižnica i čitaonica &#34;Metel Ožegović&#34; Varaždin, Franjevački trg 4
DTSTAMP:20260512T180000
DTSTART;TZID=Europe/Zagreb:20260512T180000
DTEND;TZID=Europe/Zagreb:20260512T190000
DESCRIPTION:Nova Akropola – kulturna udruga, podružnica u Varaždinu, u suradnji s
Gradskom knjižnicom i čitaonicom „Metel Ožegović” Varaždin, poziva
vas na predstavljanje knjige „Izreke”.

Knjiga donosi učenja velikog kineskog filozofa Konfucija koja su prikupili
i zapisali njegovi učenici. Procjenjuje se da je tekst nastao u razdoblju
između 5. i 3. stoljeća pr. Kr.

Konfucije je utemeljio jedan od najvećih sustava filozofske i religijske
misli. Okosnica njegova učenja bili su ispravnost pojedinca i društveni
red utemeljen na prirodnim zakonima.

U svom životu i pouci naglašavao je važnost usavršavanja karaktera i
čistoću srca, a plemenito vladanje smatrao je jedinim ispravnim načinom
upravljanja državom. Njegov je ideal bio plemenit čovjek – onaj koji
neprestano oplemenjuje svoju prirodu, a u svojim je dužnostima
velikodušan i predan.

„Izreke” (Lun Yu) glavno su štivo konfucijanizma i svojevrstan
priručnik za plemenitog čovjeka. U staroj Kini ova se knjiga smatrala
gotovo svetom. Iz nje su se crpile upute za svakodnevni život, a onaj tko
je želio stupiti u državnu službu, obavezno je morao poznavati učenja
iz knjige Lun Yu.

„Plemenit čovjek nije savršen mudrac, ali se od običnog čovjeka
razlikuje po tome što je neumoran u svom učenju i nastojanju da oplemeni
vlastitu prirodu.” – Konfucije

Ulaz na predavanje je slobodan

.
END:VEVENT
END:VCALENDAR