BEGIN:VCALENDAR
PRODID://WordPress//Event-Post-V5.8.5//EN
VERSION:2.0
BEGIN:VTIMEZONE
TZID:Europe/Zagreb
BEGIN:DAYLIGHT
TZOFFSETFROM:+0100
TZOFFSETTO:+0200
DTSTART:19700329T020000
RRULE:FREQ=YEARLY;BYDAY=-1SU;BYMONTH=3
END:DAYLIGHT
BEGIN:STANDARD
TZOFFSETFROM:+0200
TZOFFSETTO:+0100
TZNAME:CET
DTSTART:19701025T030000
RRULE:FREQ=YEARLY;BYDAY=-1SU;BYMONTH=10
END:STANDARD
END:VTIMEZONE
BEGIN:VEVENT
SUMMARY:Bajke - odjek iz davnine
UID:https://nova-akropola.hr/split/najave-split/bajke-odjek-iz-davnine-split-2026/
LOCATION:Nova Akropola, Slavićeva 47, Split
DTSTAMP:20260505T183000
DTSTART;TZID=Europe/Zagreb:20260505T183000
DTEND;TZID=Europe/Zagreb:20260505T193000
DESCRIPTION:Vile i vilenjaci, čarobnjaci, patuljci, vještice i mnogi drugi likovi
sastavni su dio bajki. Istražujući taj čarobni svijet, pitamo se čemu
služe bajke, koja je njihova svrha?Nastala još u pradavnim vremenima,
bajka nikada nije imala isključivo literarnu vrijednost. U njenim
simbolima otkrivamo dublje, skrivenije, arhetipsko značenje. Otkrivamo
elemente univerzalnog, općeljudskog.

Bez obzira na vrijeme, prostor ili kulturu, istine što ih prenose bajke
usmjeravaju čovjeka na otkrivanje njegovih prirodnih snaga i mogućnosti
koje mogu postati pokretač njegovog plemenitog nastojanja i djelovanja.

Bajka je čarobno ogledalo koje odražava nutarnji svijet i upućuje na
korake koji su nužni za razvoj.

Ulaz na predavanje je slobodan.
END:VEVENT
END:VCALENDAR